


BEGIN:VCALENDAR
VERSION:2.0
PRODID:-//BLTV - ECPv6.15.14//NONSGML v1.0//EN
CALSCALE:GREGORIAN
METHOD:PUBLISH
X-WR-CALNAME:BLTV
X-ORIGINAL-URL:https://bltv.de
X-WR-CALDESC:Veranstaltungen für BLTV
REFRESH-INTERVAL;VALUE=DURATION:PT1H
X-Robots-Tag:noindex
X-PUBLISHED-TTL:PT1H
BEGIN:VTIMEZONE
TZID:Europe/Berlin
BEGIN:DAYLIGHT
TZOFFSETFROM:+0100
TZOFFSETTO:+0200
TZNAME:CEST
DTSTART:20240331T010000
END:DAYLIGHT
BEGIN:STANDARD
TZOFFSETFROM:+0200
TZOFFSETTO:+0100
TZNAME:CET
DTSTART:20241027T010000
END:STANDARD
BEGIN:DAYLIGHT
TZOFFSETFROM:+0100
TZOFFSETTO:+0200
TZNAME:CEST
DTSTART:20250330T010000
END:DAYLIGHT
BEGIN:STANDARD
TZOFFSETFROM:+0200
TZOFFSETTO:+0100
TZNAME:CET
DTSTART:20251026T010000
END:STANDARD
BEGIN:DAYLIGHT
TZOFFSETFROM:+0100
TZOFFSETTO:+0200
TZNAME:CEST
DTSTART:20260329T010000
END:DAYLIGHT
BEGIN:STANDARD
TZOFFSETFROM:+0200
TZOFFSETTO:+0100
TZNAME:CET
DTSTART:20261025T010000
END:STANDARD
BEGIN:DAYLIGHT
TZOFFSETFROM:+0100
TZOFFSETTO:+0200
TZNAME:CEST
DTSTART:20270328T010000
END:DAYLIGHT
BEGIN:STANDARD
TZOFFSETFROM:+0200
TZOFFSETTO:+0100
TZNAME:CET
DTSTART:20271031T010000
END:STANDARD
END:VTIMEZONE
BEGIN:VEVENT
DTSTART;TZID=Europe/Berlin:20260418T093000
DTEND;TZID=Europe/Berlin:20260419T170000
DTSTAMP:20260422T182800
CREATED:20260129T141948Z
LAST-MODIFIED:20260129T142247Z
UID:4419-1776504600-1776618000@bltv.de
SUMMARY:DTSA Nitrox * GDL Basic Nitrox Dive
DESCRIPTION:
URL:https://bltv.de/event/dtsa-nitrox-gdl-basic-nitrox-dive/
LOCATION:Clubheim des TCO\, Thansau
END:VEVENT
BEGIN:VEVENT
DTSTART;TZID=Europe/Berlin:20260416T190000
DTEND;TZID=Europe/Berlin:20260416T203000
DTSTAMP:20260422T182800
CREATED:20260216T075500Z
LAST-MODIFIED:20260216T075500Z
UID:4565-1776366000-1776371400@bltv.de
SUMMARY:BLTV - Jugendverbandstag am 16.04.2026 um 19:00 Uhr\, via Zoom
DESCRIPTION:
URL:https://bltv.de/event/bltv-jugendverbandstag-am-16-04-2026-um-1900-uhr-via-zoom/
LOCATION:Online via zoom
ORGANIZER;CN="BLTV Jugend":MAILTO:jugend@bltv-ev.de
END:VEVENT
BEGIN:VEVENT
DTSTART;TZID=Europe/Berlin:20260411T090000
DTEND;TZID=Europe/Berlin:20260412T170000
DTSTAMP:20260422T182800
CREATED:20260129T193843Z
LAST-MODIFIED:20260129T193843Z
UID:4508-1775898000-1776013200@bltv.de
SUMMARY:Theorievorbereitung DTSA **/*** - GDL Advanced Sports Diver / GDL Dive Leader
DESCRIPTION:
URL:https://bltv.de/event/theorievorbereitung-dtsa-gdl-advanced-sports-diver-gdl-dive-leader-2/
LOCATION:Clubheim des TCO\, Thansau
END:VEVENT
BEGIN:VEVENT
DTSTART;TZID=Europe/Berlin:20260321T110000
DTEND;TZID=Europe/Berlin:20260321T170000
DTSTAMP:20260422T182800
CREATED:20260104T144945Z
LAST-MODIFIED:20260104T144945Z
UID:4300-1774090800-1774112400@bltv.de
SUMMARY:GDL Basic Nitrox Diver / DTSA Nitrox*
DESCRIPTION:
URL:https://bltv.de/event/gdl-basic-nitrox-diver-dtsa-nitrox-3/
END:VEVENT
BEGIN:VEVENT
DTSTART;TZID=Europe/Berlin:20260314T093000
DTEND;TZID=Europe/Berlin:20260314T180000
DTSTAMP:20260422T182800
CREATED:20260129T193142Z
LAST-MODIFIED:20260129T193142Z
UID:4500-1773480600-1773511200@bltv.de
SUMMARY:AK Herz-Lungen-Wiederbelebung - GDL CPR
DESCRIPTION:
URL:https://bltv.de/event/ak-herz-lungen-wiederbelebung-gdl-cpr-4/
LOCATION:Clubheim des TCO\, Thansau
END:VEVENT
BEGIN:VEVENT
DTSTART;TZID=Europe/Berlin:20260314T090000
DTEND;TZID=Europe/Berlin:20260314T170000
DTSTAMP:20260422T182800
CREATED:20251105T093315Z
LAST-MODIFIED:20251201T162913Z
UID:4227-1773478800-1773507600@bltv.de
SUMMARY:Medizinseminar 2026 Plattling
DESCRIPTION:
URL:https://bltv.de/event/medizinseminar-2026/
END:VEVENT
BEGIN:VEVENT
DTSTART;TZID=Europe/Berlin:20260228T100000
DTEND;TZID=Europe/Berlin:20260228T170000
DTSTAMP:20260422T182800
CREATED:20250820T080856Z
LAST-MODIFIED:20250820T081236Z
UID:4009-1772272800-1772298000@bltv.de
SUMMARY:VDST Gasmischer * bis Gasmischer *** - auch für Multiplikatoren
DESCRIPTION:Anmeldung über die Ausschreibung auf der Homepage des HTSV e. V. (https://htsv.org/ausschreibung/?Serial=1928)
URL:https://bltv.de/event/vdst-gasmischer-bis-gasmischer-auch-fuer-multiplikatoren-2/
END:VEVENT
BEGIN:VEVENT
DTSTART;TZID=Europe/Berlin:20260221T090000
DTEND;TZID=Europe/Berlin:20260221T160000
DTSTAMP:20260422T182800
CREATED:20251006T163413Z
LAST-MODIFIED:20251006T163413Z
UID:4170-1771664400-1771689600@bltv.de
SUMMARY:Aufbaukurs Medizin-Praxis / GDL Medical Practice
DESCRIPTION:
URL:https://bltv.de/event/aufbaukurs-medizin-praxis-gdl-medical-practice-3/
LOCATION:Schulungsraum TS\, 86462 Langweid\, Bahnhofstraße 24
END:VEVENT
BEGIN:VEVENT
DTSTART;TZID=Europe/Berlin:20260207T100000
DTEND;TZID=Europe/Berlin:20260207T160000
DTSTAMP:20260422T182800
CREATED:20251111T094349Z
LAST-MODIFIED:20251230T145413Z
UID:4242-1770458400-1770480000@bltv.de
SUMMARY:AUSGEBUCHT!   AK Herz-Lungen-Wiederbelebung / GDL CPR
DESCRIPTION:
URL:https://bltv.de/event/ak-herz-lungen-wiederbelebung-gdl-cpr-3/
LOCATION:Ergoldinger Stube\, Am Sportpark 1\, 84030 Ergolding
END:VEVENT
BEGIN:VEVENT
DTSTART;TZID=Europe/Berlin:20260131T090000
DTEND;TZID=Europe/Berlin:20260131T170000
DTSTAMP:20260422T182800
CREATED:20251203T073142Z
LAST-MODIFIED:20251203T073142Z
UID:4277-1769850000-1769878800@bltv.de
SUMMARY:Medizinseminar des Tauchclub Bamberg e. V.
DESCRIPTION:
URL:https://bltv.de/event/medizinseminar-des-tauchclub-bamberg-e-v/
END:VEVENT
BEGIN:VEVENT
DTSTART;TZID=Europe/Berlin:20260109T160000
DTEND;TZID=Europe/Berlin:20260308T140000
DTSTAMP:20260422T182800
CREATED:20250827T064805Z
LAST-MODIFIED:20251104T135806Z
UID:4029-1767974400-1772978400@bltv.de
SUMMARY:VDST/BLTV TL1/2 Theorieausbildung und -prüfung 2026
DESCRIPTION:
URL:https://bltv.de/event/bltv-vdst-tl1-2-theorieausbildung-und-pruefung-2026/
LOCATION:Sportcamp Nordbayern GmbH\, Am Sportcamp 1\, 95493 Bischofsgrün
CATEGORIES:Ausbildung
ORGANIZER;CN="BLTV Ausbildung":MAILTO:tl@bltv-ev.de
END:VEVENT
BEGIN:VEVENT
DTSTART;TZID=Europe/Berlin:20251129T093000
DTEND;TZID=Europe/Berlin:20251130T170000
DTSTAMP:20260422T182800
CREATED:20250123T134127Z
LAST-MODIFIED:20250123T134127Z
UID:3361-1764408600-1764522000@bltv.de
SUMMARY:Einsatz von Mentalem Training beim Tauchen
DESCRIPTION:
URL:https://bltv.de/event/einsatz-von-mentalem-training-beim-tauchen-3/
LOCATION:Clubheim des TCO\, Thansau
END:VEVENT
BEGIN:VEVENT
DTSTART;TZID=Europe/Berlin:20251129T093000
DTEND;TZID=Europe/Berlin:20251129T170000
DTSTAMP:20260422T182800
CREATED:20250804T164505Z
LAST-MODIFIED:20250804T164617Z
UID:3977-1764408600-1764435600@bltv.de
SUMMARY:Rechts- und Medizinseminar
DESCRIPTION:
URL:https://bltv.de/event/rechts-und-medizinseminar/
LOCATION:Sitzungssall Markt Höchberg\, Hauptstraße 65\, Höchberg\, 97204\, Germany
CATEGORIES:Seminar
ORGANIZER;CN="BLTV Ausbildung":MAILTO:tl@bltv-ev.de
END:VEVENT
BEGIN:VEVENT
DTSTART;TZID=Europe/Berlin:20251123T160000
DTEND;TZID=Europe/Berlin:20251123T190000
DTSTAMP:20260422T182800
CREATED:20251023T125842Z
LAST-MODIFIED:20251023T125842Z
UID:4207-1763913600-1763924400@bltv.de
SUMMARY:Ausbilderseminar der BLTV-Jugend zum Thema Kinder- &  Jugendrecht im Tauchtraining
DESCRIPTION:
URL:https://bltv.de/event/ausbilderseminar-der-bltv-jugend-zum-thema-kinder-jugendrecht-im-tauchtraining/
ORGANIZER;CN="BLTV Jugend":MAILTO:jugend@bltv-ev.de
END:VEVENT
BEGIN:VEVENT
DTSTART;TZID=Europe/Berlin:20251122T100000
DTEND;TZID=Europe/Berlin:20251122T170000
DTSTAMP:20260422T182800
CREATED:20250502T085600Z
LAST-MODIFIED:20250502T085600Z
UID:3716-1763805600-1763830800@bltv.de
SUMMARY:VDST Gasmischer * bis Gasmischer *** - auch für Multiplikatoren
DESCRIPTION:
URL:https://bltv.de/event/vdst-gasmischer-bis-gasmischer-auch-fuer-multiplikatoren/
END:VEVENT
BEGIN:VEVENT
DTSTART;TZID=Europe/Berlin:20251114T170000
DTEND;TZID=Europe/Berlin:20251116T140000
DTSTAMP:20260422T182800
CREATED:20250928T140936Z
LAST-MODIFIED:20250928T140936Z
UID:4141-1763139600-1763301600@bltv.de
SUMMARY:Jugendseminar Tauchsicherheit und Rettung
DESCRIPTION:
URL:https://bltv.de/event/jugendseminar-tauchsicherheit-und-rettung/
ORGANIZER;CN="BLTV Jugend":MAILTO:jugend@bltv-ev.de
END:VEVENT
BEGIN:VEVENT
DTSTART;TZID=Europe/Berlin:20251114T160000
DTEND;TZID=Europe/Berlin:20260320T170000
DTSTAMP:20260422T182800
CREATED:20250606T071914Z
LAST-MODIFIED:20250606T071914Z
UID:3800-1763136000-1774026000@bltv.de
SUMMARY:VDST – DOSB – Trainer C-Breitensport   Sporttauchen / Apnoetauchen
DESCRIPTION:
URL:https://bltv.de/event/vdst-dosb-trainer-c-breitensport-sporttauchen-apnoetauchen/
ORGANIZER;CN="BLTV Ausbildung":MAILTO:tl@bltv-ev.de
END:VEVENT
BEGIN:VEVENT
DTSTART;VALUE=DATE:20251108
DTEND;VALUE=DATE:20251110
DTSTAMP:20260422T182800
CREATED:20251006T154208Z
LAST-MODIFIED:20251006T154208Z
UID:4151-1762560000-1762732799@bltv.de
SUMMARY:Ausbildung zum VDST Kindertauchlehrer / GDL Children Diving Instructor
DESCRIPTION:In der Südbadischen Sportschule in Steinbach führt der Badische Tauchsportverband e. V.  vom 08.-.09 November 2025  eine Kinder TL-Ausbildung durch. Es sind noch wenige Plätze verfügbar. \nAnmeldungen  bitte direkt an: ausbildung@btsv.de
URL:https://bltv.de/event/ausbildung-zum-vdst-kindertauchlehrer-gdl-children-diving-instructor/
END:VEVENT
BEGIN:VEVENT
DTSTART;TZID=Europe/Berlin:20251031T150000
DTEND;TZID=Europe/Berlin:20251101T220000
DTSTAMP:20260422T182800
CREATED:20250123T131743Z
LAST-MODIFIED:20250123T131743Z
UID:3328-1761922800-1762034400@bltv.de
SUMMARY:GDL Night Diver / AK Nachttauchen
DESCRIPTION:
URL:https://bltv.de/event/gdl-night-diver-ak-nachttauchen/
LOCATION:Clubheim des TCO\, Thansau
END:VEVENT
BEGIN:VEVENT
DTSTART;TZID=Europe/Berlin:20251022T200000
DTEND;TZID=Europe/Berlin:20251022T220000
DTSTAMP:20260422T182800
CREATED:20250530T162700Z
LAST-MODIFIED:20250530T162700Z
UID:3777-1761163200-1761170400@bltv.de
SUMMARY:VDST - eTrainer
DESCRIPTION:Kursziel:\nNach Abschluss des Kurses ist der Teilnehmer in der Lage\, eigenständig nach den Qualitätsleitlinien und Strukturen des VDST-eLearning Ressorts eLearning Kurse zu erstellen\, durchzuführen und auszuwerten. Des Weiteren beherrscht der Teilnehmer den Umgang mit der VDST-eLearning Plattform „Moodle“. Er erlernt die methodisch-didaktischen Aspekte des eLearning und weiß um die Rechten und Pflichten\, insbesondere im Urheberrecht\, Datenschutz und IT-Sicherheit und ist mit den Umsetzungsmöglichkeiten von eLearning Themen vertraut.
URL:https://bltv.de/event/vdst-etrainer/
END:VEVENT
BEGIN:VEVENT
DTSTART;TZID=Europe/Berlin:20251011T080000
DTEND;TZID=Europe/Berlin:20251011T170000
DTSTAMP:20260422T182800
CREATED:20250323T183544Z
LAST-MODIFIED:20250605T070027Z
UID:3523-1760169600-1760202000@bltv.de
SUMMARY:BLTV Ausbildertagung 2025
DESCRIPTION:
URL:https://bltv.de/event/bltv-ausbildertagung-2025/
LOCATION:Tagungssaal „Barmherzige Brüder Behindertenhilfe gGmbH“ beim Cafe Markmiller\, Äußere Passauer Str. 60\, Straubing\, 94315
CATEGORIES:Tagung
ORGANIZER;CN="BLTV Ausbildung":MAILTO:tl@bltv-ev.de
END:VEVENT
BEGIN:VEVENT
DTSTART;TZID=Europe/Berlin:20251004T093000
DTEND;TZID=Europe/Berlin:20251005T170000
DTSTAMP:20260422T182800
CREATED:20250123T133719Z
LAST-MODIFIED:20250123T133719Z
UID:3352-1759570200-1759683600@bltv.de
SUMMARY:GDL Basic Nitrox Diver / DTSA Nitrox*
DESCRIPTION:
URL:https://bltv.de/event/gdl-basic-nitrox-diver-dtsa-nitrox-2/
LOCATION:Clubheim des TCO\, Thansau
END:VEVENT
BEGIN:VEVENT
DTSTART;TZID=Europe/Berlin:20251001T093000
DTEND;TZID=Europe/Berlin:20251001T170000
DTSTAMP:20260422T182800
CREATED:20250123T133300Z
LAST-MODIFIED:20250123T133300Z
UID:3346-1759311000-1759338000@bltv.de
SUMMARY:GDL CCR Normoxic Trimix Diver Inspiration /  DTSA CCR Normoxic Trimix Diver Inspiration
DESCRIPTION:
URL:https://bltv.de/event/gdl-ccr-normoxic-trimix-diver-inspiration-dtsa-ccr-normoxic-trimix-diver-inspiration/
LOCATION:Attersee\, Austria
END:VEVENT
BEGIN:VEVENT
DTSTART;TZID=Europe/Berlin:20251001T093000
DTEND;TZID=Europe/Berlin:20251001T170000
DTSTAMP:20260422T182800
CREATED:20250123T133120Z
LAST-MODIFIED:20250123T133120Z
UID:3343-1759311000-1759338000@bltv.de
SUMMARY:GDL CCR REC Diver Inspiration /  DTSA CCR Diver Inspiration
DESCRIPTION:
URL:https://bltv.de/event/gdl-ccr-rec-diver-inspiration-dtsa-ccr-diver-inspiration/
LOCATION:Attersee\, Austria
END:VEVENT
BEGIN:VEVENT
DTSTART;TZID=Europe/Berlin:20251001T093000
DTEND;TZID=Europe/Berlin:20251001T170000
DTSTAMP:20260422T182800
CREATED:20250123T132837Z
LAST-MODIFIED:20250123T132837Z
UID:3338-1759311000-1759338000@bltv.de
SUMMARY:GDL CCR Advanced Trimix Diver Inspiration /  DTSA CCR Advanced Trimix Diver Inspiration
DESCRIPTION:
URL:https://bltv.de/event/gdl-ccr-advanced-trimix-diver-inspiration-dtsa-ccr-advanced-trimix-diver-inspiration/
LOCATION:See je nach Sicht
END:VEVENT
BEGIN:VEVENT
DTSTART;TZID=Europe/Berlin:20250920T090000
DTEND;TZID=Europe/Berlin:20250921T160000
DTSTAMP:20260422T182800
CREATED:20250714T064711Z
LAST-MODIFIED:20250714T064711Z
UID:3927-1758358800-1758470400@bltv.de
SUMMARY:SK Süßwasserbiologie / GDL Freshwater Biology
DESCRIPTION:
URL:https://bltv.de/event/sk-suesswasserbiologie-gdl-freshwater-biology-4/
ORGANIZER;CN="BLTV Umwelt":MAILTO:umwelt@bltv.de
END:VEVENT
BEGIN:VEVENT
DTSTART;TZID=Europe/Berlin:20250913T100000
DTEND;TZID=Europe/Berlin:20250914T130000
DTSTAMP:20260422T182800
CREATED:20250126T180102Z
LAST-MODIFIED:20250126T180102Z
UID:3455-1757757600-1757854800@bltv.de
SUMMARY:SK Meeresbiologie / Ostsee - Künstliches Riff Nienhagen
DESCRIPTION:
URL:https://bltv.de/event/sk-meeresbiologie-ostsee-kuenstliches-riff-nienhagen/
END:VEVENT
BEGIN:VEVENT
DTSTART;TZID=Europe/Berlin:20250726T100000
DTEND;TZID=Europe/Berlin:20250727T140000
DTSTAMP:20260422T182800
CREATED:20241115T083351Z
LAST-MODIFIED:20241118T103921Z
UID:3220-1753524000-1753624800@bltv.de
SUMMARY:Apnoe: Atmung und Druckausgleich (Intensiv-Workshop)
DESCRIPTION:
URL:https://bltv.de/event/apnoe-atmung-und-druckausgleich-intensiv-workshop-2/
LOCATION:Murner See\, Germany
CATEGORIES:Lehrgang
ORGANIZER;CN="BLTV Apnoe":MAILTO:apnoe@bltv-ev.de
END:VEVENT
BEGIN:VEVENT
DTSTART;TZID=Europe/Berlin:20250726T093000
DTEND;TZID=Europe/Berlin:20250727T170000
DTSTAMP:20260422T182800
CREATED:20250123T130835Z
LAST-MODIFIED:20250123T130835Z
UID:3318-1753522200-1753635600@bltv.de
SUMMARY:GDL Dive Group Leader / AK Gruppenführung
DESCRIPTION:
URL:https://bltv.de/event/gdl-dive-group-leader-ak-gruppenfuehrung/
LOCATION:Clubheim des TCO\, Thansau
END:VEVENT
BEGIN:VEVENT
DTSTART;TZID=Europe/Berlin:20250726T090000
DTEND;TZID=Europe/Berlin:20250727T170000
DTSTAMP:20260422T182800
CREATED:20250114T160202Z
LAST-MODIFIED:20250114T160202Z
UID:3281-1753520400-1753635600@bltv.de
SUMMARY:Aufbaukurs Tauchsicherheit und Rettung
DESCRIPTION:
URL:https://bltv.de/event/aufbaukurs-tauchsicherheit-und-rettung-2/
END:VEVENT
END:VCALENDAR